BEGIN:VCALENDAR
VERSION:2.0
PRODID:-//FUNSALUD - ECPv6.9.1//NONSGML v1.0//EN
CALSCALE:GREGORIAN
METHOD:PUBLISH
X-WR-CALNAME:FUNSALUD
X-ORIGINAL-URL:https://funsalud.org.mx
X-WR-CALDESC:Eventos para FUNSALUD
REFRESH-INTERVAL;VALUE=DURATION:PT1H
X-Robots-Tag:noindex
X-PUBLISHED-TTL:PT1H
BEGIN:VTIMEZONE
TZID:America/Chicago
BEGIN:DAYLIGHT
TZOFFSETFROM:-0600
TZOFFSETTO:-0500
TZNAME:CDT
DTSTART:20260308T080000
END:DAYLIGHT
BEGIN:STANDARD
TZOFFSETFROM:-0500
TZOFFSETTO:-0600
TZNAME:CST
DTSTART:20261101T070000
END:STANDARD
END:VTIMEZONE
BEGIN:VEVENT
DTSTART;TZID=America/Chicago:20260123T000000
DTEND;TZID=America/Chicago:20260123T235900
DTSTAMP:20260423T100506
CREATED:20251111T013654Z
LAST-MODIFIED:20260209T181718Z
UID:11922-1769126400-1769212740@funsalud.org.mx
SUMMARY:Diplomado IA en Salud GEN 5 Próximamente
DESCRIPTION:El 23 de enero dará inicio la GEN 5 del Diplomado en Inteligencia Artificial en Salud\, presentado por FUNSALUD\, la Facultad de Medicina de la UNAM y la Academia Nacional de Medicina de México. \n¿Tienes dudas? Escríbenos al Whatsapp 📲 \n👉 Regístrate aquí
URL:https://funsalud.org.mx/evento/inicio-de-la-gen-5-del-diplomado-de-inteligencia-artificial-en-salud/
LOCATION:Zoom\, Mexico
CATEGORIES:Diplomados
ATTACH;FMTTYPE=image/jpeg:https://funsalud.org.mx/wp-content/uploads/2025/10/IMG-20251031-WA0011.jpg
END:VEVENT
BEGIN:VEVENT
DTSTART;VALUE=DATE:20260128
DTEND;VALUE=DATE:20260129
DTSTAMP:20260423T100506
CREATED:20260206T190328Z
LAST-MODIFIED:20260206T190328Z
UID:12022-1769558400-1769644799@funsalud.org.mx
SUMMARY:Cierre de Convocatoria All.Can Award 2025
DESCRIPTION:La convocatoria del All.Can Award 2025 ha concluido oficialmente. Agradecemos a todas las personas\, organizaciones y equipos que participaron y postularon proyectos enfocados en mejorar la atención y los resultados en cáncer. \nLas propuestas recibidas se encuentran en proceso de revisión conforme a los criterios establecidos. Próximamente se dará a conocer información sobre las siguientes etapas del premio. \nGracias por formar parte de esta iniciativa que impulsa soluciones innovadoras y centradas en las y los pacientes.
URL:https://funsalud.org.mx/evento/cierre-de-convocatoria-all-can-award-2025/
LOCATION:CDMX
ATTACH;FMTTYPE=image/jpeg:https://funsalud.org.mx/wp-content/uploads/2026/02/WhatsApp-Image-2026-01-27-at-13.52.27.jpeg
END:VEVENT
END:VCALENDAR