BEGIN:VCALENDAR
VERSION:2.0
PRODID:-//FUNSALUD - ECPv6.9.1//NONSGML v1.0//EN
CALSCALE:GREGORIAN
METHOD:PUBLISH
X-ORIGINAL-URL:https://funsalud.org.mx
X-WR-CALDESC:Eventos para FUNSALUD
REFRESH-INTERVAL;VALUE=DURATION:PT1H
X-Robots-Tag:noindex
X-PUBLISHED-TTL:PT1H
BEGIN:VTIMEZONE
TZID:America/Chicago
BEGIN:DAYLIGHT
TZOFFSETFROM:-0600
TZOFFSETTO:-0500
TZNAME:CDT
DTSTART:20240310T080000
END:DAYLIGHT
BEGIN:STANDARD
TZOFFSETFROM:-0500
TZOFFSETTO:-0600
TZNAME:CST
DTSTART:20241103T070000
END:STANDARD
END:VTIMEZONE
BEGIN:VEVENT
DTSTART;VALUE=DATE:20240816
DTEND;VALUE=DATE:20240817
DTSTAMP:20260424T102851
CREATED:20240814T162356Z
LAST-MODIFIED:20240814T162804Z
UID:10402-1723766400-1723852799@funsalud.org.mx
SUMMARY:Cierre de inscripciones - Diplomado IA en Salud
DESCRIPTION:¡Atención a todos los interesados en el Diplomado de Inteligencia Artificial en Salud! \nEste viernes 16 de agosto es el último día para inscribirse. No pierdas la oportunidad de formar parte de un programa único que te permitirá comprender y aplicar la IA en tu práctica médica diaria. El diplomado patrocinado por Pfizer y Silanes\, ofrecido por FUNSALUD y la Facultad de Medicina de la UNAM\, Transform Health y la Academia Nacional de Medicina es 100% en línea y está diseñado para adaptarse a tu ritmo. \n¡Inscríbete hoy y sé parte del cambio que el sistema de salud en México necesita! \nMás información e inscripciones en funsalud.org.mx/diplomadoia. \n¡No te quedes fuera!
URL:https://funsalud.org.mx/evento/diplomado-ia-en-salud/
LOCATION:CDMX
ATTACH;FMTTYPE=image/jpeg:https://funsalud.org.mx/wp-content/uploads/2024/07/tarjeta-diplomado-IA-rect.jpg
END:VEVENT
END:VCALENDAR