BEGIN:VCALENDAR
VERSION:2.0
PRODID:-//FUNSALUD - ECPv6.9.1//NONSGML v1.0//EN
CALSCALE:GREGORIAN
METHOD:PUBLISH
X-WR-CALNAME:FUNSALUD
X-ORIGINAL-URL:https://funsalud.org.mx
X-WR-CALDESC:Eventos para FUNSALUD
REFRESH-INTERVAL;VALUE=DURATION:PT1H
X-Robots-Tag:noindex
X-PUBLISHED-TTL:PT1H
BEGIN:VTIMEZONE
TZID:America/Chicago
BEGIN:DAYLIGHT
TZOFFSETFROM:-0600
TZOFFSETTO:-0500
TZNAME:CDT
DTSTART:20250309T080000
END:DAYLIGHT
BEGIN:STANDARD
TZOFFSETFROM:-0500
TZOFFSETTO:-0600
TZNAME:CST
DTSTART:20251102T070000
END:STANDARD
END:VTIMEZONE
BEGIN:VEVENT
DTSTART;VALUE=DATE:20251111
DTEND;VALUE=DATE:20251112
DTSTAMP:20260423T082313
CREATED:20251111T023420Z
LAST-MODIFIED:20251111T023420Z
UID:11928-1762819200-1762905599@funsalud.org.mx
SUMMARY:Presentación del estudio “Paciente Digital Mexicano”
DESCRIPTION:El martes 11 de noviembre de 2025\, se llevará a cabo la presentación del estudio Paciente Digital Mexicano.Leer más
URL:https://funsalud.org.mx/evento/presentacion-del-estudio-paciente-digital-mexicano/
LOCATION:CDMX
ATTACH;FMTTYPE=image/jpeg:https://funsalud.org.mx/wp-content/uploads/2025/11/WhatsApp-Image-2025-11-10-at-20.30.46.jpeg
END:VEVENT
END:VCALENDAR