BEGIN:VCALENDAR
VERSION:2.0
PRODID:-//FUNSALUD - ECPv6.9.1//NONSGML v1.0//EN
CALSCALE:GREGORIAN
METHOD:PUBLISH
X-WR-CALNAME:FUNSALUD
X-ORIGINAL-URL:https://funsalud.org.mx
X-WR-CALDESC:Eventos para FUNSALUD
REFRESH-INTERVAL;VALUE=DURATION:PT1H
X-Robots-Tag:noindex
X-PUBLISHED-TTL:PT1H
BEGIN:VTIMEZONE
TZID:America/Chicago
BEGIN:DAYLIGHT
TZOFFSETFROM:-0600
TZOFFSETTO:-0500
TZNAME:CDT
DTSTART:20240310T080000
END:DAYLIGHT
BEGIN:STANDARD
TZOFFSETFROM:-0500
TZOFFSETTO:-0600
TZNAME:CST
DTSTART:20241103T070000
END:STANDARD
END:VTIMEZONE
BEGIN:VEVENT
DTSTART;TZID=America/Chicago:20241211T190000
DTEND;TZID=America/Chicago:20241211T200000
DTSTAMP:20260424T040614
CREATED:20241202T035728Z
LAST-MODIFIED:20241202T035728Z
UID:10687-1733943600-1733947200@funsalud.org.mx
SUMMARY:Sesión Informativa: Diplomado IA GEN2
DESCRIPTION:El próximo miércoles 11 de diciembre se llevará a cabo la sesión informativa sobre la generación 2 del Diplomado de Inteligencia Artificial Pfizer-Silanes que se llevará a cabo vía Zoom a las 7pm. \nDurante la sesión se hará una presentación sobre el temario\, estructura\, métodos de aprendizaje y costos del diplomado y se desahogarán todas las preguntas que los asistentes puedan tener sobre el diplomado en su próxima edición que arranca en enero 2025. \nPara participar basta con registrarse en la página del diplomado: https://funsalud.org.mx/diplomadoia
URL:https://funsalud.org.mx/evento/sesion-informativa-diplomado-ia-gen2-2/
LOCATION:Zoom\, Mexico
END:VEVENT
END:VCALENDAR