BEGIN:VCALENDAR
VERSION:2.0
PRODID:-//FUNSALUD - ECPv6.9.1//NONSGML v1.0//EN
CALSCALE:GREGORIAN
METHOD:PUBLISH
X-WR-CALNAME:FUNSALUD
X-ORIGINAL-URL:https://funsalud.org.mx
X-WR-CALDESC:Eventos para FUNSALUD
REFRESH-INTERVAL;VALUE=DURATION:PT1H
X-Robots-Tag:noindex
X-PUBLISHED-TTL:PT1H
BEGIN:VTIMEZONE
TZID:America/Chicago
BEGIN:DAYLIGHT
TZOFFSETFROM:-0600
TZOFFSETTO:-0500
TZNAME:CDT
DTSTART:20240310T080000
END:DAYLIGHT
BEGIN:STANDARD
TZOFFSETFROM:-0500
TZOFFSETTO:-0600
TZNAME:CST
DTSTART:20241103T070000
END:STANDARD
END:VTIMEZONE
BEGIN:VEVENT
DTSTART;VALUE=DATE:20240716
DTEND;VALUE=DATE:20240717
DTSTAMP:20260424T134140
CREATED:20240716T140518Z
LAST-MODIFIED:20240716T145832Z
UID:10371-1721088000-1721174399@funsalud.org.mx
SUMMARY:Último día Becas 30% Diplomado IA
DESCRIPTION:Último Día para Inscribirse con Beca del 30% en el Diplomado de IA en Salud\n¡No pierdas esta oportunidad! Hoy es el último día para inscribirte con una beca del 30% en el Diplomado en Inteligencia Artificial en Salud\, ofrecido por la Facultad de Medicina de la UNAM en colaboración con FUNSALUD\, Transform Health México\, Pfizer y Silanes. \n¿Qué aprenderás?\n\nDiagnósticos más precisos: Utiliza IA para mejorar la precisión en diagnósticos y tratamientos.\nAtención personalizada: Aprende a implementar IA para una atención médica más personalizada y eficiente.\nReducción de la brecha en salud: Descubre cómo la IA puede ayudar a cerrar las brechas de desigualdad en la atención médica en México.\n\nInformación Clave\n\nInicio del Diplomado: 1 de septiembre\nDuración: 8 semanas\nModalidad: 100% en línea\nCosto: $40\,000 pesos (con opción a beca del 30%)\n\nAprovecha esta oportunidad única de formación y mejora en tu práctica clínica. Para más detalles e inscripciones\, visita funsalud.org.mx/diplomadoia. \n¡Transforma tu carrera y la salud en México con el poder de la Inteligencia Artificial!
URL:https://funsalud.org.mx/evento/ultimo-dia-inscripcion-con-beca-30/
LOCATION:CDMX
END:VEVENT
END:VCALENDAR